BEGIN:VCALENDAR
VERSION:2.0
PRODID:-//Squarespace Inc/Squarespace 6//v6//EN
BEGIN:VEVENT
UID:5b0fe0462b6a282944edb257@squarespace.com
DTSTAMP:20180531T115216Z
DTSTART:20180531T230000Z
DTEND:20180630T070000Z
SUMMARY:Living Poetry @ Ladder Art Space
GEO:-37.808991;145.028408
LOCATION:Ladder Art Space\, 81 Denmark Street\, Kew\, VIC\, 3101\, Australi
 a
END:VEVENT
END:VCALENDAR
