BEGIN:VCALENDAR
VERSION:2.0
PRODID:-//Squarespace Inc/Squarespace 6//v6//EN
BEGIN:VEVENT
UID:5b05530470a6adb925164394@squarespace.com
DTSTAMP:20180531T115507Z
DTSTART:20180820T000000Z
DTEND:20180820T020000Z
SUMMARY:Friends of MGA Morning Talk: "Living Poetry"
GEO:-37.907756;145.190746
LOCATION:Monash Gallery of Art\, 860 Ferntree Gully Road\, Wheelers Hill\, 
 VIC\, 3150\, Australia
END:VEVENT
END:VCALENDAR
