BEGIN:VCALENDAR
VERSION:2.0
PRODID:-//Squarespace Inc/Squarespace 6//v6//EN
BEGIN:VEVENT
UID:5a140b7171c10bfdba6c3e0b@squarespace.com
DTSTAMP:20180531T114419Z
DTSTART:20180228T000000Z
DTEND:20180317T060000Z
SUMMARY:Living Poetry
GEO:-37.787055;145.131312
LOCATION:Manningham Art Gallery\, 687 Doncaster Road\, Doncaster\, VIC\, 31
 08\, Australia
END:VEVENT
END:VCALENDAR
